BEGIN:VCALENDAR
VERSION:2.0
PRODID:icalendar-ruby
CALSCALE:GREGORIAN
METHOD:PUBLISH
BEGIN:VEVENT
DTSTAMP:20260422T192537Z
UID:d760214e-c800-4a44-baaa-74a3fd0cbdee
DTSTART:20240711T193000
DTEND:20240711T210000
CLASS:PUBLIC
DESCRIPTION:Détails participants: https://www.ensimag-alumni.com/events/ar
 ound-the-world-2024-ensimag-alumni\n\n\n\n\nImage (extirpée): Clermont-Fe
 rrand\, Cathédrale\, Ville\n\nBloquez vite la date de notre prochain afte
 r-work mondial (*annonce complète ici ( https://www.ensimag-alumni.com/ar
 ticles/ensimag-around-the-world-2024-fetons-les-10-000-alumni-le-11-juille
 t )*).\n\n\n\nLa liste des villes participantes évolue constamment\, la l
 ogistique st en finalisation\, alors suivez bien ce sujet pour ne rien man
 quer !\n\nL'inscription se fait au bas de cette page.\n_*Des questions?*_\
 n\n\n_Vous pouvez les poser en commentaires au bas de ce post après vous 
 \nêtre connecté\, c'est le plus simple.Option\n 2: vous pouvez écrire 
 à_evenements_arobase_notre-nom-de-domaine_\, pour \ndes messages plus pri
 vés aux bénévoles organisateurs._\n
LOCATION:Bistrot 17\, 6 Rue Saint-Esprit
SUMMARY:🌎 Around The World 2024 💯𝗫💯 Ensimag Alumni
ATTACH;FMTTYPE=text/html:https://www.ensimag-alumni.com/events/around-the-w
 orld-2024-ensimag-alumni
DESCRIPTION;ALTREP="DATA:TEXT/HTML;CHARSET=UTF-8;CLIQUER+POUR+LES%3CA+HREF%
 3D%22HTTPS%3A%2F%2FWWW.ENSIMAG-ALUMNI.COM%2FEVENTS%2FAROUND-THE-WORLD-2024
 -ENSIMAG-ALUMNI%22%3ED%C3%A9TAILS+PARTICIPANTS%3C%2FA%3E%3CP%3E%3C%2FP%3E%
 3CP%3E%3CIMG+SRC%3D%22HTTPS%3A%2F%2FCDN.PIXABAY.COM%2FPHOTO%2F2017%2F09%2F
 25%2F20%2F56%2FCLERMONT-FERRAND-2786748-1280.JPG%22+ALT%3D%22CLERMONT-FERR
 AND%2C+CATH%C3%A9DRALE%2C+VILLE%22+STYLE%3D%22WIDTH%3A+100%25%3B%22%3E%3C%
 2FP%3E%3CP%3EBLOQUEZ+VITE+LA+DATE+DE+NOTRE+PROCHAIN+AFTER-WORK+MONDIAL+%28
 %3CB%3E%3CA+HREF%3D%22HTTPS%3A%2F%2FWWW.ENSIMAG-ALUMNI.COM%2FARTICLES%2FEN
 SIMAG-AROUND-THE-WORLD-2024-FETONS-LES-10-000-ALUMNI-LE-11-JUILLET%22+TARG
 ET%3D%22-BLANK%22%3EANNONCE+COMPL%C3%A8TE+ICI%3C%2FA%3E%3C%2FB%3E%29.+%3C%
 2FP%3E%3CP%3E%3CBR%3E%3C%2FP%3E%3CP%3ELA+LISTE+DES+VILLES+PARTICIPANTES+%C
 3%A9VOLUE+CONSTAMMENT%2C+LA+LOGISTIQUE+ST+EN+FINALISATION%2C+ALORS+SUIVEZ+
 BIEN+CE+SUJET+POUR+NE+RIEN+MANQUER+%21%3CBR%3E%3CBR%3E%3C%2FP%3E%3CP%3EL%2
 7INSCRIPTION+SE+FAIT+AU+BAS+DE+CETTE+PAGE.%3CBR%3E%3C%2FP%3E%3CHR%3E%3CI%3
 E%3CB%3EDES+QUESTIONS%3F%3C%2FB%3E%3C%2FI%3E%3CP%3E%3C%2FP%3E%3CP%3E%3CI%3
 EVOUS+POUVEZ+LES+POSER+EN+COMMENTAIRES+AU+BAS+DE+CE+POST+APR%C3%A8S+VOUS+%
 0D%0A%C3%AATRE+CONNECT%C3%A9%2C+C%27EST+LE+PLUS+SIMPLE.%3CBR%3E%3CBR%3EOPT
 ION%0D%0A+2%3A+VOUS+POUVEZ+%C3%A9CRIRE+%C3%A0+%3C%2FI%3EEVENEMENTS%3CI%3E+
 AROBASE+%3C%2FI%3ENOTRE-NOM-DE-DOMAINE%3CI%3E%2C+POUR+%0D%0ADES+MESSAGES+P
 LUS+PRIV%C3%A9S+AUX+B%C3%A9N%C3%A9VOLES+ORGANISATEURS.%3C%2FI%3E%3C%2FP%3E
 ":Détails participants: https://www.ensimag-alumni.com/events/around-the-
 world-2024-ensimag-alumni\n\n\n\n\nImage (extirpée): Clermont-Ferrand\, C
 athédrale\, Ville\n\nBloquez vite la date de notre prochain after-work mo
 ndial (*annonce complète ici ( https://www.ensimag-alumni.com/articles/en
 simag-around-the-world-2024-fetons-les-10-000-alumni-le-11-juillet )*).\n\
 n\n\nLa liste des villes participantes évolue constamment\, la logistique
  st en finalisation\, alors suivez bien ce sujet pour ne rien manquer !\n\
 nL'inscription se fait au bas de cette page.\n_*Des questions?*_\n\n\n_Vou
 s pouvez les poser en commentaires au bas de ce post après vous \nêtre c
 onnecté\, c'est le plus simple.Option\n 2: vous pouvez écrire à_eveneme
 nts_arobase_notre-nom-de-domaine_\, pour \ndes messages plus privés aux b
 énévoles organisateurs._\n
END:VEVENT
END:VCALENDAR
