BEGIN:VCALENDAR
VERSION:2.0
PRODID:icalendar-ruby
CALSCALE:GREGORIAN
METHOD:PUBLISH
BEGIN:VEVENT
DTSTAMP:20260422T193132Z
UID:7cc985e2-0447-4d17-a6e6-50ca1cd8eb69
DTSTART:20240702T183000
DTEND:20240702T200000
CLASS:PUBLIC
DESCRIPTION:Détails participants: https://www.ensimag-alumni.com/events/at
 elier-corps-cerveau-ensimag-alumni\n\n\n\n\nLes Jeux 2024 à Paris sont l
 à\, et Ensimag Alumni vous organise des ateliers.\n\nImage (extirpée): e
 moji-timeline\n\nDans ce contexte porteur\, "Plus forts ensemble !"\, ça 
 marche aussi pour le cerveau et ... le corps.\n\nUn membre éminent de not
 re association vous offre (oui\, c'est offert !) de partager un atelier lu
 dique bien qu'aux fondements très sérieux sur ce thème.\n\nAlors\, chan
 ceux de région parisienne\, bloquez de suite la date\, et apprêtez-vous 
 à candidater car il y a peu de places.\n\nLa logistique\, l'annonce préc
 ise\,  sont en finalisation\, alors suivez bien le sujet pour ne pas le ma
 nquer !\n\n\n*Atelier Corps-cerveau Ensimag Alumni Paris mardi 02/07/2024.
 *Image (extirpée): Image\nAlumni Ensimag\,\n\nPrêts pour les J.O. 2024 d
 e Paris ?\nImage (extirpée): Image\n\n\nA l'instar des sportifs de haut n
 iveau\, découvrons comment le corps\, cet allié ignoré\,  nous offre de
 s ressources pour la réussite de nos actions individuelles et collectives
 .\n\nNous avons chacun des mouvements qui nous donnent du tonus pour passe
 r à l'action et des postures qui améliorent notre agilité dans l'action
 . Ils correspondent cognitivement à nos motivations profondes et nos mode
 s de fonctionnement naturels\, au travers des liens corps-cerveau.\n\nMoun
 a Beyk\, Ensimag 1989\, coach professionnelle depuis 2004\, nous offre de 
 découvrir\, lors de cet atelier de sensibilisation\, l'approche ActionTyp
 es® de connaissance de soi issue du sport de haut niveau.\n\nIntéressé(
 e) et engagé(e) à y participer\, réserve ta place avant le 25 juin minu
 it afin de nous permettre de réserver une salle  sur Paris de taille appr
 opriée au nombre de participants.\n\n_*Tu veux participer ?*_Clique simpl
 ement sur ce bouton d'inscription\, ouvert à l'instant. Places limitées 
 !\nPage d'inscription ( https://www.ensimag-alumni.com/events/atelier-corp
 s-cerveau-ensimag-alumni )\nNous espérons t'y rencontrer et partager une 
 expérience rare.\n\n*Le bureau Ensimag Alumni*\n\nP.S. Pour toute questio
 n ou précision\, écris à evenements arobase ensimag-alumni.com .\n_*Des
  questions?*_\n_Vous pouvez les poser en commentaires au bas de ce post ap
 rès vous être connecté__s.Option 2: vous pouvez écrire à_evenements_a
 robase_notre-nom-de-domaine_\, pour des messages plus privés aux bénévo
 les organisateurs._\n\n\n\n\n\n\n
LOCATION:Cocoon Louvre\n44 Rue du Louvre\nBâtiment B\n75001 Paris\nRER A-B
 -D Châtelet Les Halles\nCodes d'entrée envoyés par e-mails individuels
SUMMARY: 🧠 🧘🏻‍♀️ Atelier corps - cerveau Ensimag Alumni
ATTACH;FMTTYPE=text/html:https://www.ensimag-alumni.com/events/atelier-corp
 s-cerveau-ensimag-alumni
DESCRIPTION;ALTREP="DATA:TEXT/HTML;CHARSET=UTF-8;CLIQUER+POUR+LES%3CA+HREF%
 3D%22HTTPS%3A%2F%2FWWW.ENSIMAG-ALUMNI.COM%2FEVENTS%2FATELIER-CORPS-CERVEAU
 -ENSIMAG-ALUMNI%22%3ED%C3%A9TAILS+PARTICIPANTS%3C%2FA%3E%3CP%3E%3C%2FP%3E%
 3CP%3ELES+JEUX+2024+%C3%A0+PARIS+SONT+L%C3%A0%2C+ET+ENSIMAG+ALUMNI+VOUS+OR
 GANISE+DES+ATELIERS.%3C%2FP%3E%3CP%3E%3CIMG+SRC%3D%22HTTPS%3A%2F%2FEM-CONT
 ENT.ZOBJ.NET%2FSOURCE%2FWHATSAPP%2F16%2FOLYMPIC-RINGS-25EF-200D-25EF-200D-
 25EF-200D-25EF-200D-25EF.PNG%22+ALT%3D%22EMOJI-TIMELINE%22%3E%3C%2FP%3E%3C
 P%3EDANS+CE+CONTEXTE+PORTEUR%2C+%22PLUS+FORTS+ENSEMBLE+%21%22%2C+%C3%A7A+M
 ARCHE+AUSSI+POUR+LE+CERVEAU+ET+...+LE+CORPS.%3CBR%3E%3C%2FP%3E%3CP%3EUN+ME
 MBRE+%C3%A9MINENT+DE+NOTRE+ASSOCIATION+VOUS+OFFRE+%28OUI%2C+C%27EST+OFFERT
 +%21%29+DE+PARTAGER+UN+ATELIER+LUDIQUE+BIEN+QU%27AUX+FONDEMENTS+TR%C3%A8S+
 S%C3%A9RIEUX+SUR+CE+TH%C3%A8ME.%3C%2FP%3E%3CP%3EALORS%2C+CHANCEUX+DE+R%C3%
 A9GION+PARISIENNE%2C+BLOQUEZ+DE+SUITE+LA+DATE%2C+ET+APPR%C3%AATEZ-VOUS+%C3
 %A0+CANDIDATER+CAR+IL+Y+A+PEU+DE+PLACES.%3C%2FP%3E%3CP%3ELA+LOGISTIQUE%2C+
 L%27ANNONCE+PR%C3%A9CISE%2C%26NBSP%3B+SONT+EN+FINALISATION%2C+ALORS+SUIVEZ
 +BIEN+LE+SUJET+POUR+NE+PAS+LE+MANQUER+%21%3CBR%3E%3C%2FP%3E%3CP%3E%3CBR%3E
 %3C%2FP%3E%3CBLOCKQUOTE+TYPE%3D%22CITE%22+STYLE%3D%22COLOR%3A+RGB%2834%2C+
 34%2C+34%29%3B+FONT-FAMILY%3A+ARIAL%2C+HELVETICA%2C+SANS-SERIF%3B+FONT-SIZ
 E%3A+SMALL%3B+FONT-STYLE%3A+NORMAL%3B+FONT-VARIANT-LIGATURES%3A+NORMAL%3B+
 FONT-VARIANT-CAPS%3A+NORMAL%3B+FONT-WEIGHT%3A+400%3B+LETTER-SPACING%3A+NOR
 MAL%3B+ORPHANS%3A+2%3B+TEXT-ALIGN%3A+START%3B+TEXT-INDENT%3A+0PX%3B+TEXT-T
 RANSFORM%3A+NONE%3B+WHITE-SPACE%3A+NORMAL%3B+WIDOWS%3A+2%3B+WORD-SPACING%3
 A+0PX%3B+-WEBKIT-TEXT-STROKE-WIDTH%3A+0PX%3B+BACKGROUND-COLOR%3A+RGB%28255
 %2C+255%2C+255%29%3B+TEXT-DECORATION-THICKNESS%3A+INITIAL%3B+TEXT-DECORATI
 ON-STYLE%3A+INITIAL%3B+TEXT-DECORATION-COLOR%3A+INITIAL%3B%22%3E%3CDIV+STY
 LE%3D%22BACKGROUND-COLOR%3A+RGB%28244%2C+244%2C+244%29%3B%22%3E%3CDIV+STYL
 E%3D%22BACKGROUND%3A+RGB%28255%2C+255%2C+255%29%3B+MARGIN%3A+0PX+AUTO%3B+M
 AX-WIDTH%3A+600PX%3B%22%3E%3CTABLE+ROLE%3D%22PRESENTATION%22+STYLE%3D%22BA
 CKGROUND%3A+RGB%28255%2C+255%2C+255%29%3B+WIDTH%3A+600PX%3B%22+CELLSPACING
 %3D%220%22+CELLPADDING%3D%220%22+BORDER%3D%220%22+ALIGN%3D%22CENTER%22%3E%
 3CTBODY%3E%3CTR%3E%3CTD+STYLE%3D%22MARGIN%3A+0PX%3B+DIRECTION%3A+LTR%3B+FO
 NT-SIZE%3A+0PX%3B+PADDING%3A+20PX+0PX%3B+TEXT-ALIGN%3A+CENTER%3B%22%3E%3CD
 IV+STYLE%3D%22FONT-SIZE%3A+0PX%3B+TEXT-ALIGN%3A+LEFT%3B+DIRECTION%3A+LTR%3
 B+DISPLAY%3A+INLINE-BLOCK%3B+VERTICAL-ALIGN%3A+TOP%3B+WIDTH%3A+600PX%3B%22
 %3E%3CTABLE+ROLE%3D%22PRESENTATION%22+STYLE%3D%22VERTICAL-ALIGN%3A+TOP%3B%
 22+WIDTH%3D%22100%25%22+CELLSPACING%3D%220%22+CELLPADDING%3D%220%22+BORDER
 %3D%220%22%3E%3CTBODY%3E%3CTR%3E%3CTD+STYLE%3D%22MARGIN%3A+0PX%3B+FONT-SIZ
 E%3A+0PX%3B+PADDING%3A+0PX+25PX%3B+WORD-BREAK%3A+BREAK-WORD%3B%22+ALIGN%3D
 %22LEFT%22%3E%3CDIV+STYLE%3D%22FONT-FAMILY%3A+ARIAL%2C+SANS-SERIF%3B+FONT-
 SIZE%3A+13PX%3B+LETTER-SPACING%3A+NORMAL%3B+LINE-HEIGHT%3A+1%3B+TEXT-ALIGN
 %3A+LEFT%3B+COLOR%3A+RGB%280%2C+0%2C+0%29%3B%22%3E%3CH3+STYLE%3D%22MARGIN-
 TOP%3A+10PX%3B+MARGIN-BOTTOM%3A+10PX%3B+FONT-WEIGHT%3A+NORMAL%3B%22%3E%3CS
 PAN+STYLE%3D%22COLOR%3A+RGB%2819%2C+27%2C+32%29%3B+FONT-FAMILY%3A+ARIAL%2C
 +SANS-SERIF%3B+FONT-SIZE%3A+20PX%3B+LINE-HEIGHT%3A+28PX%3B%22%3E%3CB%3E%3C
 IMG+DATA-EMOJI%3D%22%F0%9F%A7%A0%22+CLASS%3D%22AN1%22+ALT%3D%22%F0%9F%A7%A
 0%22+ARIA-LABEL%3D%22%F0%9F%A7%A0%22+DRAGGABLE%3D%22FALSE%22+SRC%3D%22HTTP
 S%3A%2F%2FFONTS.GSTATIC.COM%2FS%2FE%2FNOTOEMOJI%2F15.0%2F1F9E0%2F32.PNG%22
 +STYLE%3D%22HEIGHT%3A+1.2EM%3B+WIDTH%3A+1.2EM%3B+VERTICAL-ALIGN%3A+MIDDLE%
 3B%22%3E%3CSPAN%3E%26NBSP%3B%3C%2FSPAN%3E%3CIMG+DATA-EMOJI%3D%22%F0%9F%A7%
 98%F0%9F%8F%BB%E2%80%8D%E2%99%80%EF%B8%8F%22+CLASS%3D%22AN1%22+ALT%3D%22%F
 0%9F%A7%98%F0%9F%8F%BB%E2%80%8D%E2%99%80%EF%B8%8F%22+ARIA-LABEL%3D%22%F0%9
 F%A7%98%F0%9F%8F%BB%E2%80%8D%E2%99%80%EF%B8%8F%22+DRAGGABLE%3D%22FALSE%22+
 SRC%3D%22HTTPS%3A%2F%2FFONTS.GSTATIC.COM%2FS%2FE%2FNOTOEMOJI%2F15.0%2F1F9D
 8-1F3FB-200D-2640-FE0F%2F32.PNG%22+STYLE%3D%22HEIGHT%3A+1.2EM%3B+WIDTH%3A+
 1.2EM%3B+VERTICAL-ALIGN%3A+MIDDLE%3B%22%3E%3CSPAN%3E%26NBSP%3B%3C%2FSPAN%3
 E%26NBSP%3BATELIER%3CSPAN%3E%26NBSP%3B%3C%2FSPAN%3E%3CSPAN+CLASS%3D%22IL%2
 2%3ECORPS%3C%2FSPAN%3E-CERVEAU+ENSIMAG+ALUMNI+PARIS+MARDI+02%2F07%2F2024.%
 3C%2FB%3E%3C%2FSPAN%3E%3C%2FH3%3E%3C%2FDIV%3E%3C%2FTD%3E%3C%2FTR%3E%3CTR%3
 E%3CTD+STYLE%3D%22MARGIN%3A+0PX%3B+FONT-SIZE%3A+0PX%3B+PADDING%3A+10PX+25P
 X%3B+WORD-BREAK%3A+BREAK-WORD%3B%22+ALIGN%3D%22CENTER%22%3E%3CTABLE+ROLE%3
 D%22PRESENTATION%22+STYLE%3D%22BORDER-COLLAPSE%3A+COLLAPSE%3B+BORDER-SPACI
 NG%3A+0PX%3B%22+CELLSPACING%3D%220%22+CELLPADDING%3D%220%22+BORDER%3D%220%
 22%3E%3CTBODY%3E%3CTR%3E%3CTD+STYLE%3D%22MARGIN%3A+0PX%3B+WIDTH%3A+550PX%3
 B%22%3E%3CIMG+SRC%3D%22HTTPS%3A%2F%2FCI3.GOOGLEUSERCONTENT.COM%2FMEIPS%2FA
 DKQ-NY2VLZUSKNOMOVVW9CU10TL6EAYDQIUURZDQ-NJKBU9UAFO-A3V-NKTYUE2S8NXLVFZEYD
 EIUZUPMLVKZDOBLWARWLGXSI2VZ79KDU9PN3WK-H5WC8J9NS3BHXC%3DS0-D-E1-FT%23HTTP%
 3A%2F%2FQ5I.MJ.AM%2FIMG2%2FQ5I%2FE36D8B63-B98A-4CB2-86FA-EF11134C4556%2FCO
 NTENT%22+CLASS%3D%22CTOWUD+A6T%22+DATA-BIT%3D%22IIT%22+TABINDEX%3D%220%22+
 STYLE%3D%22CURSOR%3A+POINTER%3B+OUTLINE%3A+NONE%3B+BORDER%3A+NONE%3B+DISPL
 AY%3A+BLOCK%3B+TEXT-DECORATION%3A+NONE%3B+WIDTH%3A+50%25%3B+FONT-SIZE%3A+1
 3PX%3B%22+WIDTH%3D%22550%22+HEIGHT%3D%22AUTO%22%3E%3C%2FTD%3E%3C%2FTR%3E%3
 C%2FTBODY%3E%3C%2FTABLE%3E%3C%2FTD%3E%3C%2FTR%3E%3CTR%3E%3CTD+STYLE%3D%22M
 ARGIN%3A+0PX%3B+FONT-SIZE%3A+0PX%3B+PADDING%3A+0PX+25PX%3B+WORD-BREAK%3A+B
 REAK-WORD%3B%22+ALIGN%3D%22LEFT%22%3E%3CDIV+STYLE%3D%22FONT-FAMILY%3A+ARIA
 L%2C+SANS-SERIF%3B+FONT-SIZE%3A+13PX%3B+LETTER-SPACING%3A+NORMAL%3B+LINE-H
 EIGHT%3A+1%3B+TEXT-ALIGN%3A+LEFT%3B+COLOR%3A+RGB%280%2C+0%2C+0%29%3B%22%3E
 %3CP+STYLE%3D%22MARGIN%3A+10PX+0PX%3B%22%3E%3CSPAN+STYLE%3D%22COLOR%3A+RGB
 %2885%2C+87%2C+93%29%3B+FONT-FAMILY%3A+ROBOTO%2C+HELVETICA%2C+ARIAL%2C+SAN
 S-SERIF%3B+FONT-SIZE%3A+14PX%3B%22%3EALUMNI+ENSIMAG%2C%3C%2FSPAN%3E%3C%2FP
 %3E%3CP+STYLE%3D%22MARGIN%3A+10PX+0PX%3B%22%3E%3CSPAN+STYLE%3D%22COLOR%3A+
 RGB%2885%2C+87%2C+93%29%3B+FONT-FAMILY%3A+ROBOTO%2C+HELVETICA%2C+ARIAL%2C+
 SANS-SERIF%3B+FONT-SIZE%3A+14PX%3B%22%3EPR%C3%AATS+POUR+LES+J.O.+2024+DE+P
 ARIS+%3F%3C%2FSPAN%3E%3C%2FP%3E%3C%2FDIV%3E%3C%2FTD%3E%3C%2FTR%3E%3CTR%3E%
 3CTD+STYLE%3D%22MARGIN%3A+0PX%3B+FONT-SIZE%3A+0PX%3B+PADDING%3A+10PX+25PX%
 3B+WORD-BREAK%3A+BREAK-WORD%3B%22+ALIGN%3D%22CENTER%22%3E%3CTABLE+ROLE%3D%
 22PRESENTATION%22+STYLE%3D%22BORDER-COLLAPSE%3A+COLLAPSE%3B+BORDER-SPACING
 %3A+0PX%3B%22+CELLSPACING%3D%220%22+CELLPADDING%3D%220%22+BORDER%3D%220%22
 %3E%3CTBODY%3E%3CTR%3E%3CTD+STYLE%3D%22MARGIN%3A+0PX%3B+WIDTH%3A+48PX%3B%2
 2%3E%3CIMG+SRC%3D%22HTTPS%3A%2F%2FCI3.GOOGLEUSERCONTENT.COM%2FMEIPS%2FADKQ
 -NY4IQ1P6FBT4V-IZBRRKYBVX4RZXMXCPFYI-JT4K3SBO0GNIBJZZEXKAOH5O8EV-QIUXZSF3T
 CIQK-JR2JM6IVVVFMDBEBWJWLF48T5ZS8TSB8Z3ZB4QNT7JJTN%3DS0-D-E1-FT%23HTTP%3A%
 2F%2FQ5I.MJ.AM%2FIMG2%2FQ5I%2FCD4B8850-1520-44BE-8F47-AB9E2006610D%2FCONTE
 NT%22+CLASS%3D%22CTOWUD%22+DATA-BIT%3D%22IIT%22+STYLE%3D%22BORDER%3A+NONE%
 3B+DISPLAY%3A+BLOCK%3B+OUTLINE%3A+NONE%3B+TEXT-DECORATION%3A+NONE%3B+HEIGH
 T%3A+AUTO%3B+WIDTH%3A+48PX%3B+FONT-SIZE%3A+13PX%3B%22+WIDTH%3D%2248%22+HEI
 GHT%3D%22AUTO%22%3E%3C%2FTD%3E%3C%2FTR%3E%3C%2FTBODY%3E%3C%2FTABLE%3E%3C%2
 FTD%3E%3C%2FTR%3E%3CTR%3E%3CTD+STYLE%3D%22MARGIN%3A+0PX%3B+FONT-SIZE%3A+0P
 X%3B+PADDING%3A+0PX+25PX%3B+WORD-BREAK%3A+BREAK-WORD%3B%22+ALIGN%3D%22LEFT
 %22%3E%3CDIV+STYLE%3D%22FONT-FAMILY%3A+ARIAL%2C+SANS-SERIF%3B+FONT-SIZE%3A
 +13PX%3B+LETTER-SPACING%3A+NORMAL%3B+LINE-HEIGHT%3A+1%3B+TEXT-ALIGN%3A+LEF
 T%3B+COLOR%3A+RGB%280%2C+0%2C+0%29%3B%22%3E%3CP+STYLE%3D%22MARGIN%3A+10PX+
 0PX%3B%22%3E%26NBSP%3B%3C%2FP%3E%3CP+STYLE%3D%22MARGIN%3A+10PX+0PX%3B%22%3
 E%3CSPAN+STYLE%3D%22FONT-SIZE%3A+14PX%3B%22%3EA+L%27INSTAR+DES+SPORTIFS+DE
 +HAUT+NIVEAU%2C+D%C3%A9COUVRONS+COMMENT+LE%3CSPAN%3E%26NBSP%3B%3C%2FSPAN%3
 E%3CSPAN+CLASS%3D%22IL%22%3ECORPS%3C%2FSPAN%3E%2C+CET+ALLI%C3%A9+IGNOR%C3%
 A9%2C+%26NBSP%3BNOUS+OFFRE+DES+RESSOURCES+POUR+LA+R%C3%A9USSITE+DE+NOS+ACT
 IONS+INDIVIDUELLES+ET+COLLECTIVES.%3C%2FSPAN%3E%3C%2FP%3E%3CP+STYLE%3D%22M
 ARGIN%3A+10PX+0PX%3B%22%3E%3CSPAN+STYLE%3D%22FONT-SIZE%3A+14PX%3B%22%3ENOU
 S+AVONS+CHACUN+DES+MOUVEMENTS+QUI+NOUS+DONNENT+DU+TONUS+POUR+PASSER+%C3%A0
 +L%27ACTION+ET+DES+POSTURES+QUI+AM%C3%A9LIORENT+NOTRE+AGILIT%C3%A9+DANS+L%
 27ACTION.+ILS+CORRESPONDENT+COGNITIVEMENT+%C3%A0+NOS+MOTIVATIONS+PROFONDES
 +ET+NOS+MODES+DE+FONCTIONNEMENT+NATURELS%2C+AU+TRAVERS+DES+LIENS%3CSPAN%3E
 %26NBSP%3B%3C%2FSPAN%3E%3CSPAN+CLASS%3D%22IL%22%3ECORPS%3C%2FSPAN%3E-CERVE
 AU.%26NBSP%3B%3C%2FSPAN%3E%3C%2FP%3E%3CP+STYLE%3D%22MARGIN%3A+10PX+0PX%3B%
 22%3E%3CSPAN+STYLE%3D%22FONT-SIZE%3A+14PX%3B%22%3EMOUNA+BEYK%2C+ENSIMAG+19
 89%2C+COACH+PROFESSIONNELLE+DEPUIS+2004%2C+NOUS+OFFRE+DE+D%C3%A9COUVRIR%2C
 +LORS+DE+CET+ATELIER+DE+SENSIBILISATION%2C+L%27APPROCHE+ACTIONTYPES%C2%AE+
 DE+CONNAISSANCE+DE+SOI+ISSUE+DU+SPORT+DE+HAUT+NIVEAU.%3C%2FSPAN%3E%3C%2FP%
 3E%3CP+STYLE%3D%22MARGIN%3A+10PX+0PX%3B%22%3E%3CSPAN+STYLE%3D%22FONT-SIZE%
 3A+14PX%3B%22%3EINT%C3%A9RESS%C3%A9%28E%29+ET+ENGAG%C3%A9%28E%29+%C3%A0+Y+
 PARTICIPER%2C+R%C3%A9SERVE+TA+PLACE+AVANT+LE+25+JUIN+MINUIT+AFIN+DE+NOUS+P
 ERMETTRE+DE+R%C3%A9SERVER+UNE+SALLE+%26NBSP%3BSUR+PARIS+DE+TAILLE+APPROPRI
 %C3%A9E+AU+NOMBRE+DE+PARTICIPANTS.%3C%2FSPAN%3E%3C%2FP%3E%3CP+STYLE%3D%22M
 ARGIN%3A+10PX+0PX%3B%22%3E%3CSPAN+STYLE%3D%22COLOR%3A+RGB%2873%2C+90%2C+10
 1%29%3B+FONT-FAMILY%3A+ARIAL%2C+SANS-SERIF%3B+FONT-SIZE%3A+14PX%3B%22%3E%3
 CI%3E%3CB%3ETU+VEUX+PARTICIPER+%3F%3CSPAN%3E%26NBSP%3B%3C%2FSPAN%3E%3C%2FB
 %3E%3C%2FI%3ECLIQUE+SIMPLEMENT+SUR+CE+BOUTON+D%27INSCRIPTION%2C+OUVERT+%C3
 %A0+L%27INSTANT.+PLACES+LIMIT%C3%A9ES+%21%3C%2FSPAN%3E%3C%2FP%3E%3C%2FDIV%
 3E%3C%2FTD%3E%3C%2FTR%3E%3CTR%3E%3CTD+STYLE%3D%22MARGIN%3A+0PX%3B+FONT-SIZ
 E%3A+0PX%3B+PADDING%3A+10PX+25PX%3B+WORD-BREAK%3A+BREAK-WORD%3B%22+ALIGN%3
 D%22CENTER%22%3E%3CTABLE+ROLE%3D%22PRESENTATION%22+STYLE%3D%22BORDER-COLLA
 PSE%3A+SEPARATE%3B+LINE-HEIGHT%3A+0PX%3B%22+CELLSPACING%3D%220%22+CELLPADD
 ING%3D%220%22+BORDER%3D%220%22%3E%3CTBODY%3E%3CTR%3E%3CTD+ROLE%3D%22PRESEN
 TATION%22+STYLE%3D%22MARGIN%3A+0PX%3B+BORDER%3A+NONE%3B+BORDER-RADIUS%3A+3
 PX%3B+BACKGROUND%3A+RGB%280%2C+132%2C+55%29%3B%22+VALIGN%3D%22MIDDLE%22+BG
 COLOR%3D%22%23008437%22+ALIGN%3D%22CENTER%22%3E%3CA+HREF%3D%22HTTPS%3A%2F%
 2FWWW.ENSIMAG-ALUMNI.COM%2FEVENTS%2FATELIER-CORPS-CERVEAU-ENSIMAG-ALUMNI%2
 2+REL%3D%22NOREFERRER+NOFOLLOW+NOOPENER%22+TARGET%3D%22-BLANK%22+DATA-SAFE
 REDIRECTURL%3D%22HTTPS%3A%2F%2FWWW.GOOGLE.COM%2FURL%3FQ%3DHTTPS%3A%2F%2FWW
 W.ENSIMAG-ALUMNI.COM%2FEVENTS%2FATELIER-CORPS-CERVEAU-ENSIMAG-ALUMNI%26AMP
 %3BSOURCE%3DGMAIL%26AMP%3BUST%3D1719171806447000%26AMP%3BUSG%3DAOVVAW3SK6I
 VH4E6Q0MEIGZBA3JU%22+STYLE%3D%22COLOR%3A+RGB%28255%2C+255%2C+255%29%3B+DIS
 PLAY%3A+INLINE-BLOCK%3B+BACKGROUND%3A+RGB%280%2C+132%2C+55%29%3B+FONT-FAMI
 LY%3A+ARIAL%2C+SANS-SERIF%3B+FONT-SIZE%3A+13PX%3B+FONT-WEIGHT%3A+NORMAL%3B
 +LINE-HEIGHT%3A+15.6PX%3B+MARGIN%3A+0PX%3B+TEXT-DECORATION%3A+NONE%3B+TEXT
 -TRANSFORM%3A+NONE%3B+PADDING%3A+10PX+25PX%3B+BORDER-RADIUS%3A+3PX%3B%22%3
 E%3CSPAN+STYLE%3D%22FONT-SIZE%3A+14PX%3B%22%3E%3CB%3EPAGE%3CSPAN%3E%26NBSP
 %3B%3C%2FSPAN%3E%3C%2FB%3E%3C%2FSPAN%3E%3CSPAN+STYLE%3D%22BACKGROUND-COLOR
 %3A+RGB%280%2C+132%2C+55%29%3B+FONT-SIZE%3A+14PX%3B%22%3E%3CB%3ED%27INSCRI
 PTION%3C%2FB%3E%3C%2FSPAN%3E%3C%2FA%3E%3C%2FTD%3E%3C%2FTR%3E%3C%2FTBODY%3E
 %3C%2FTABLE%3E%3C%2FTD%3E%3C%2FTR%3E%3CTR%3E%3CTD+STYLE%3D%22MARGIN%3A+0PX
 %3B+FONT-SIZE%3A+0PX%3B+PADDING%3A+0PX+25PX%3B+WORD-BREAK%3A+BREAK-WORD%3B
 %22+ALIGN%3D%22LEFT%22%3E%3CDIV+STYLE%3D%22FONT-FAMILY%3A+ARIAL%2C+SANS-SE
 RIF%3B+FONT-SIZE%3A+13PX%3B+LETTER-SPACING%3A+NORMAL%3B+LINE-HEIGHT%3A+1%3
 B+TEXT-ALIGN%3A+LEFT%3B+COLOR%3A+RGB%280%2C+0%2C+0%29%3B%22%3E%3CP+STYLE%3
 D%22MARGIN%3A+10PX+0PX%3B%22%3ENOUS+ESP%C3%A9RONS+T%27Y+RENCONTRER+ET+PART
 AGER+UNE+EXP%C3%A9RIENCE+RARE.%26NBSP%3B%3C%2FP%3E%3CP+STYLE%3D%22MARGIN%3
 A+10PX+0PX%3B%22%3E%3CSPAN+STYLE%3D%22COLOR%3A+RGB%2885%2C+87%2C+93%29%3B+
 FONT-FAMILY%3A+ARIAL%2C+HELVETICA%2C+SANS-SERIF%3B+FONT-SIZE%3A+13PX%3B%22
 %3E%3CB%3ELE+BUREAU+ENSIMAG+ALUMNI%3C%2FB%3E%3C%2FSPAN%3E%3C%2FP%3E%3CP+ST
 YLE%3D%22MARGIN%3A+10PX+0PX%3B%22%3E%3CSPAN+STYLE%3D%22COLOR%3A+RGB%2885%2
 C+87%2C+93%29%3B+FONT-FAMILY%3A+ARIAL%2C+HELVETICA%2C+SANS-SERIF%3B+FONT-S
 IZE%3A+13PX%3B%22%3EP.S.+POUR+TOUTE+QUESTION+OU+PR%C3%A9CISION%2C+%C3%A9CR
 IS+%C3%A0%3CSPAN%3E%26NBSP%3B%3C%2FSPAN%3E%3CSPAN+STYLE%3D%22COLOR%3A+RGB%
 2817%2C+85%2C+204%29%3B%22%3EEVENEMENTS+AROBASE+ENSIMAG-ALUMNI.COM%3C%2FSP
 AN%3E%3CSPAN%3E%26NBSP%3B%3C%2FSPAN%3E.%3C%2FSPAN%3E%3C%2FP%3E%3C%2FDIV%3E
 %3C%2FTD%3E%3C%2FTR%3E%3C%2FTBODY%3E%3C%2FTABLE%3E%3C%2FDIV%3E%3C%2FTD%3E%
 3C%2FTR%3E%3C%2FTBODY%3E%3C%2FTABLE%3E%3C%2FDIV%3E%3C%2FDIV%3E%3C%2FBLOCKQ
 UOTE%3E%3CHR%3E%3CI%3E%3CB%3EDES+QUESTIONS%3F+%3C%2FB%3E%3C%2FI%3E%3CP%3E%
 3CI%3EVOUS+POUVEZ+LES+POSER+EN+COMMENTAIRES+AU+BAS+DE+CE+POST+APR%C3%A8S+V
 OUS+%C3%AATRE+CONNECT%C3%A9%3C%2FI%3E%3CI%3ES.%3CBR%3E%3CBR%3EOPTION+2%3A+
 VOUS+POUVEZ+%C3%A9CRIRE+%C3%A0+%3C%2FI%3EEVENEMENTS%3CI%3E+AROBASE+%3C%2FI
 %3ENOTRE-NOM-DE-DOMAINE%3CI%3E%2C+POUR+DES+MESSAGES+PLUS+PRIV%C3%A9S+AUX+B
 %C3%A9N%C3%A9VOLES+ORGANISATEURS.%3C%2FI%3E%3CBR%3E%3C%2FP%3E%3CP%3E+%3CBR
 %3E%3C%2FP%3E%3CP%3E%3C%2FP%3E%3CP%3E%3CBR%3E%3C%2FP%3E":Détails particip
 ants: https://www.ensimag-alumni.com/events/atelier-corps-cerveau-ensimag-
 alumni\n\n\n\n\nLes Jeux 2024 à Paris sont là\, et Ensimag Alumni vous o
 rganise des ateliers.\n\nImage (extirpée): emoji-timeline\n\nDans ce cont
 exte porteur\, "Plus forts ensemble !"\, ça marche aussi pour le cerveau 
 et ... le corps.\n\nUn membre éminent de notre association vous offre (ou
 i\, c'est offert !) de partager un atelier ludique bien qu'aux fondements 
 très sérieux sur ce thème.\n\nAlors\, chanceux de région parisienne\, 
 bloquez de suite la date\, et apprêtez-vous à candidater car il y a peu 
 de places.\n\nLa logistique\, l'annonce précise\,  sont en finalisation\,
  alors suivez bien le sujet pour ne pas le manquer !\n\n\n*Atelier Corps-c
 erveau Ensimag Alumni Paris mardi 02/07/2024.*Image (extirpée): Image\nAl
 umni Ensimag\,\n\nPrêts pour les J.O. 2024 de Paris ?\nImage (extirpée):
  Image\n\n\nA l'instar des sportifs de haut niveau\, découvrons comment l
 e corps\, cet allié ignoré\,  nous offre des ressources pour la réussit
 e de nos actions individuelles et collectives.\n\nNous avons chacun des mo
 uvements qui nous donnent du tonus pour passer à l'action et des postures
  qui améliorent notre agilité dans l'action. Ils correspondent cognitive
 ment à nos motivations profondes et nos modes de fonctionnement naturels\
 , au travers des liens corps-cerveau.\n\nMouna Beyk\, Ensimag 1989\, coach
  professionnelle depuis 2004\, nous offre de découvrir\, lors de cet atel
 ier de sensibilisation\, l'approche ActionTypes® de connaissance de soi i
 ssue du sport de haut niveau.\n\nIntéressé(e) et engagé(e) à y partici
 per\, réserve ta place avant le 25 juin minuit afin de nous permettre de 
 réserver une salle  sur Paris de taille appropriée au nombre de particip
 ants.\n\n_*Tu veux participer ?*_Clique simplement sur ce bouton d'inscrip
 tion\, ouvert à l'instant. Places limitées !\nPage d'inscription ( https
 ://www.ensimag-alumni.com/events/atelier-corps-cerveau-ensimag-alumni )\nN
 ous espérons t'y rencontrer et partager une expérience rare.\n\n*Le bure
 au Ensimag Alumni*\n\nP.S. Pour toute question ou précision\, écris à e
 venements arobase ensimag-alumni.com .\n_*Des questions?*_\n_Vous pouvez l
 es poser en commentaires au bas de ce post après vous être connecté__s.
 Option 2: vous pouvez écrire à_evenements_arobase_notre-nom-de-domaine_\
 , pour des messages plus privés aux bénévoles organisateurs._\n\n\n\n\n
 \n\n
END:VEVENT
END:VCALENDAR
