BEGIN:VCALENDAR
VERSION:2.0
PRODID:icalendar-ruby
CALSCALE:GREGORIAN
METHOD:PUBLISH
BEGIN:VEVENT
DTSTAMP:20260421T062225Z
UID:4e768d64-bf6d-45ab-b6b9-12db95cc4722
DTSTART:20260518T190000
DTEND:20260520T194500
CLASS:PUBLIC
DESCRIPTION:Détails participants: https://www.ensimag-alumni.com/events/ca
 -ouvert-mai-2026\n\n\n*Le jour exact du créneau sera confirmé dans les c
 ommentaires plus bas dès qu'arrêté\, n'oubliez pas de vous y abonner !*
 \nBonjour\,\n\nLe conseil d'administration ( https://ensimag-alumni.com/pa
 ges/equipe ) de l'association Ensimag alumni\, le  "C.A."\, se réunit pé
 riodiquement pour avancer sur les actions en cours.\n\nDepuis 2025\, nous 
 *invitons* à  cette réunion le(s) alumni(s) qui souhaiterai(en)t y parti
 ciper pour:\ndécouvrir les *initiatives* en cours\, les *évènements* pr
 ogrammésle CA\, son *fonctionnement*\,et intéragir avec *l'équipe*.\nSi
  tu es intéressé(e)\, inscris-toi dès aujourd'hui au bas de ce texte po
 ur accéder à la visio.\n\nNous devons limiter à quelques invités\, car
  nous menons des réunions CA hyper-minutées en 45 min\, et ne pouvons pa
 s encore inviter tout le monde.\n\nTu n'as pas pu t'inscrire faute de plac
 e ? Ecris-nous tout de même dans les commentaires en bas et on verra ce q
 u'on peut faire pour cette fois-ci ou la prochaine.\n\nA très vite !\n ( 
 https://ensimag-alumni.com/member/profiles/2787 )Image (extirpée): Image 
 ( https://ensimag-alumni.com/member/profiles/2787 )Luc Valette ( https://e
 nsimag-alumni.com/member/profiles/2787 ) E'1992\, Président d'Ensimag Alu
 mni
LOCATION:Lien envoyé en avance
SUMMARY:👥🤗 CA ouvert - mai 🚴 2026
ATTACH;FMTTYPE=text/html:https://www.ensimag-alumni.com/events/ca-ouvert-ma
 i-2026
DESCRIPTION;ALTREP="DATA:TEXT/HTML;CHARSET=UTF-8;CLIQUER+POUR+LES%3CA+HREF%
 3D%22HTTPS%3A%2F%2FWWW.ENSIMAG-ALUMNI.COM%2FEVENTS%2FCA-OUVERT-MAI-2026%22
 %3ED%C3%A9TAILS+PARTICIPANTS%3C%2FA%3E%3CP+STYLE%3D%22COLOR%3A+RGB%2851%2C
 +51%2C+51%29%3B%22%3E%3CB%3E%3CI%3ELE+JOUR+EXACT+DU+CR%C3%A9NEAU+SERA+CONF
 IRM%C3%A9+DANS+LES+COMMENTAIRES+PLUS+BAS+D%C3%A8S+QU%27ARR%C3%AAT%C3%A9%2C
 +N%27OUBLIEZ+PAS+DE+VOUS+Y+ABONNER+%21%3CBR%3E%3C%2FI%3E%3C%2FB%3E%3CBR%3E
 BONJOUR%2C%3C%2FP%3E%3CP+STYLE%3D%22COLOR%3A+RGB%2851%2C+51%2C+51%29%3B%22
 %3ELE%26NBSP%3B%3CA+HREF%3D%22HTTPS%3A%2F%2FENSIMAG-ALUMNI.COM%2FPAGES%2FE
 QUIPE%22%3ECONSEIL+D%27ADMINISTRATION%3C%2FA%3E%26NBSP%3BDE+L%27ASSOCIATIO
 N+ENSIMAG+ALUMNI%2C+LE%26NBSP%3B+%22C.A.%22%2C+SE+R%C3%A9UNIT+P%C3%A9RIODI
 QUEMENT+POUR+AVANCER+SUR+LES+ACTIONS+EN+COURS.%3C%2FP%3E%3CP+STYLE%3D%22CO
 LOR%3A+RGB%2851%2C+51%2C+51%29%3B%22%3EDEPUIS+2025%2C+NOUS%26NBSP%3B%3CB%3
 EINVITONS%26NBSP%3B%3C%2FB%3E%26NBSP%3B%C3%A0%26NBSP%3B+CETTE+R%C3%A9UNION
 +LE%28S%29+ALUMNI%28S%29+QUI+SOUHAITERAI%28EN%29T+Y+PARTICIPER+POUR%3A%3C%
 2FP%3E%3CUL+STYLE%3D%22COLOR%3A+RGB%2851%2C+51%2C+51%29%3B%22%3E%3CLI%3ED%
 C3%A9COUVRIR+LES%26NBSP%3B%3CB%3EINITIATIVES%3C%2FB%3E%26NBSP%3BEN+COURS%2
 C+LES%26NBSP%3B%3CB%3E%C3%A9V%C3%A8NEMENTS%3C%2FB%3E%26NBSP%3BPROGRAMM%C3%
 A9S%3C%2FLI%3E%3CLI%3ELE+CA%2C+SON%26NBSP%3B%3CB%3EFONCTIONNEMENT%3C%2FB%3
 E%2C%3C%2FLI%3E%3CLI%3EET+INT%C3%A9RAGIR+AVEC%26NBSP%3B%3CB%3EL%27%C3%A9QU
 IPE%3C%2FB%3E.%3C%2FLI%3E%3C%2FUL%3E%3CP+STYLE%3D%22COLOR%3A+RGB%2851%2C+5
 1%2C+51%29%3B%22%3ESI+TU+ES+INT%C3%A9RESS%C3%A9%28E%29%2C+INSCRIS-TOI+D%C3
 %A8S+AUJOURD%27HUI+AU+BAS+DE+CE+TEXTE+POUR+ACC%C3%A9DER+%C3%A0+LA+VISIO.%3
 C%2FP%3E%3CP+STYLE%3D%22COLOR%3A+RGB%2851%2C+51%2C+51%29%3B%22%3ENOUS+DEVO
 NS+LIMITER+%C3%A0+QUELQUES+INVIT%C3%A9S%2C+CAR+NOUS+MENONS+DES+R%C3%A9UNIO
 NS+CA+HYPER-MINUT%C3%A9ES+EN+45+MIN%2C+ET+NE+POUVONS+PAS+ENCORE+INVITER+TO
 UT+LE+MONDE.%3C%2FP%3E%3CP+STYLE%3D%22COLOR%3A+RGB%2851%2C+51%2C+51%29%3B%
 22%3ETU+N%27AS+PAS+PU+T%27INSCRIRE+FAUTE+DE+PLACE+%3F+ECRIS-NOUS+TOUT+DE+M
 %C3%AAME+DANS+LES+COMMENTAIRES+EN+BAS+ET+ON+VERRA+CE+QU%27ON+PEUT+FAIRE+PO
 UR+CETTE+FOIS-CI+OU+LA+PROCHAINE.%3C%2FP%3E%3CP+STYLE%3D%22COLOR%3A+RGB%28
 51%2C+51%2C+51%29%3B%22%3EA+TR%C3%A8S+VITE+%21%3CBR%3E%3CBR%3E%3C%2FP%3E%3
 CH5+STYLE%3D%22FONT-FAMILY%3A+%26QUOT%3BHELVETICA+NEUE%26QUOT%3B%2C+HELVET
 ICA%2C+ARIAL%2C+SANS-SERIF%3B+COLOR%3A+RGB%2834%2C+34%2C+34%29%3B%22%3E%3C
 A+HREF%3D%22HTTPS%3A%2F%2FENSIMAG-ALUMNI.COM%2FMEMBER%2FPROFILES%2F2787%22
 %3E%26NBSP%3B%3C%2FA%3E%3CIMG+SRC%3D%22HTTP%3A%2F%2FRES.CLOUDINARY.COM%2FE
 NSIMAG-ALUMNI%2FIMAGE%2FUPLOAD%2FV1748451360%2FKUGLW9YK6R0BLFVNXWOW.PNG%22
 +STYLE%3D%22MAX-WIDTH%3A+100%25%3B+HEIGHT%3A+AUTO%3B+COLOR%3A+RGB%2851%2C+
 51%2C+51%29%3B+FONT-FAMILY%3A+ARIAL%2C+SANS-SERIF%3B+FONT-SIZE%3A+13PX%3B+
 WIDTH%3A+42PX%3B%22%3E%3CA+HREF%3D%22HTTPS%3A%2F%2FENSIMAG-ALUMNI.COM%2FME
 MBER%2FPROFILES%2F2787%22%3E%26NBSP%3B%3C%2FA%3E%3CA+HREF%3D%22HTTPS%3A%2F
 %2FENSIMAG-ALUMNI.COM%2FMEMBER%2FPROFILES%2F2787%22+TARGET%3D%22-BLANK%22%
 3ELUC+VALETTE%3C%2FA%3E%26NBSP%3BE%271992%2C+PR%C3%A9SIDENT+D%27ENSIMAG+AL
 UMNI%3C%2FH5%3E":Détails participants: https://www.ensimag-alumni.com/eve
 nts/ca-ouvert-mai-2026\n\n\n*Le jour exact du créneau sera confirmé dans
  les commentaires plus bas dès qu'arrêté\, n'oubliez pas de vous y abon
 ner !*\nBonjour\,\n\nLe conseil d'administration ( https://ensimag-alumni.
 com/pages/equipe ) de l'association Ensimag alumni\, le  "C.A."\, se réun
 it périodiquement pour avancer sur les actions en cours.\n\nDepuis 2025\,
  nous *invitons* à  cette réunion le(s) alumni(s) qui souhaiterai(en)t y
  participer pour:\ndécouvrir les *initiatives* en cours\, les *évènemen
 ts* programmésle CA\, son *fonctionnement*\,et intéragir avec *l'équipe
 *.\nSi tu es intéressé(e)\, inscris-toi dès aujourd'hui au bas de ce te
 xte pour accéder à la visio.\n\nNous devons limiter à quelques invités
 \, car nous menons des réunions CA hyper-minutées en 45 min\, et ne pouv
 ons pas encore inviter tout le monde.\n\nTu n'as pas pu t'inscrire faute d
 e place ? Ecris-nous tout de même dans les commentaires en bas et on verr
 a ce qu'on peut faire pour cette fois-ci ou la prochaine.\n\nA très vite 
 !\n ( https://ensimag-alumni.com/member/profiles/2787 )Image (extirpée): 
 Image ( https://ensimag-alumni.com/member/profiles/2787 )Luc Valette ( htt
 ps://ensimag-alumni.com/member/profiles/2787 ) E'1992\, Président d'Ensim
 ag Alumni
END:VEVENT
END:VCALENDAR
