BEGIN:VCALENDAR
VERSION:2.0
PRODID:icalendar-ruby
CALSCALE:GREGORIAN
METHOD:PUBLISH
BEGIN:VEVENT
DTSTAMP:20260422T192711Z
UID:154a1479-f6b7-41f7-ab2f-d222f315dc5d
DTSTART:20231201T171000
DTEND:20231201T230000
CLASS:PUBLIC
DESCRIPTION:Détails participants: https://www.ensimag-alumni.com/events/ce
 remonie-de-remise-des-diplomes-a-la-promo-2022\n\n\nAlumni de la promo 202
 2\, je serai heureux de vous retrouver pour une brève allocution au nom d
 e tous les alumni en cette soirée solennelle et festive de votre remise d
 es diplômes par l'Ensimag.\n
LOCATION:Alpexpo
SUMMARY:🎓 Cérémonie de remise des diplômes à la promo 2022
ATTACH;FMTTYPE=text/html:https://www.ensimag-alumni.com/events/ceremonie-de
 -remise-des-diplomes-a-la-promo-2022
DESCRIPTION;ALTREP="DATA:TEXT/HTML;CHARSET=UTF-8;CLIQUER+POUR+LES%3CA+HREF%
 3D%22HTTPS%3A%2F%2FWWW.ENSIMAG-ALUMNI.COM%2FEVENTS%2FCEREMONIE-DE-REMISE-D
 ES-DIPLOMES-A-LA-PROMO-2022%22%3ED%C3%A9TAILS+PARTICIPANTS%3C%2FA%3E%3CP%3
 EALUMNI+DE+LA+PROMO+2022%2C+JE+SERAI+HEUREUX+DE+VOUS+RETROUVER+POUR+UNE+BR
 %C3%A8VE+ALLOCUTION+AU+NOM+DE+TOUS+LES+ALUMNI+EN+CETTE+SOIR%C3%A9E+SOLENNE
 LLE+ET+FESTIVE+DE+VOTRE+REMISE+DES+DIPL%C3%B4MES+PAR+L%27ENSIMAG.%3CBR%3E%
 3C%2FP%3E":Détails participants: https://www.ensimag-alumni.com/events/ce
 remonie-de-remise-des-diplomes-a-la-promo-2022\n\n\nAlumni de la promo 202
 2\, je serai heureux de vous retrouver pour une brève allocution au nom d
 e tous les alumni en cette soirée solennelle et festive de votre remise d
 es diplômes par l'Ensimag.\n
END:VEVENT
END:VCALENDAR
