BEGIN:VCALENDAR
VERSION:2.0
PRODID:icalendar-ruby
CALSCALE:GREGORIAN
METHOD:PUBLISH
BEGIN:VEVENT
DTSTAMP:20260424T025403Z
UID:f6273af6-23ea-4dcf-a1c6-806103b5ab62
DTSTART:20210213T140000
DTEND:20210213T150000
CLASS:PUBLIC
DESCRIPTION:Détails participants: https://www.ensimag-alumni.com/events/co
 nference-talk-inp-les-chemins-francais-de-la-reindustrialisation\n\n\n*Ev
 énement proposé par Grenoble INP Alumni*\n\nImage (extirpée): Image\n\n
 Grenoble INP Alumni lance au premier trimestre de cette année une série 
 de conférences appelée*Grenoble Talk’INP*.\n Ces conférences ont pour
  objectif de partager avec les diplômés et les \nétudiants de Grenoble 
 INP des informations scientifiques\, économiques et\n industrielles\, qui
  aident à comprendre notre monde économique et \nl’évolution du monde
  du travail dans les années à venir.\n\nChaque\n conférence s’articul
 era autour d’un thème et d’un(e) invité(e) \ndiplômé(e) de Grenobl
 e INP et connu(e) dans la sphère publique et le \nmonde des médias pour 
 ses réalisations professionnelles en tant que \nchercheur(e)\, enseignant
 (e)\, ou entrepreneur(e).\n\n\n\nThème : les Chemins Français de la réi
 ndustrialisation\nIntervenants :\nLoïk Le Floch-Prigent\, Consultant dans
  le domaine de l'énergie\, essayiste (ex Rhône-Poulenc\, Elf Aquitaine\,
  GDF\, SNCF)\nJean-Hervé Lorenzi\, Président du Cercle des Economistes e
 t Professeur Agrégé de Droit et Sciences Economiques (ex Conseiller éco
 nomique du Premier Ministre Edith Cresson\, CEA Industrie)\n\n\n\nInscript
 ion en bas de ce lien ( https://www.alumni.grenoble-inp.fr/event/conferenc
 e-talk-inp-du-13-fevrier-2021-les-chemins-francais-de-la-reindustrialisati
 on/2021/02/13/160 ).\n
LOCATION:En ligne
SUMMARY:Conférence Talk'INP : Les chemins Français de la réindustrialisa
 tion
ATTACH;FMTTYPE=text/html:https://www.ensimag-alumni.com/events/conference-t
 alk-inp-les-chemins-francais-de-la-reindustrialisation
DESCRIPTION;ALTREP="DATA:TEXT/HTML;CHARSET=UTF-8;CLIQUER+POUR+LES%3CA+HREF%
 3D%22HTTPS%3A%2F%2FWWW.ENSIMAG-ALUMNI.COM%2FEVENTS%2FCONFERENCE-TALK-INP-L
 ES-CHEMINS-FRANCAIS-DE-LA-REINDUSTRIALISATION%22%3ED%C3%A9TAILS+PARTICIPAN
 TS%3C%2FA%3E%3CP%3E%3CB%3EEV%C3%A9NEMENT+PROPOS%C3%A9+PAR+GRENOBLE+INP+ALU
 MNI%3C%2FB%3E%3C%2FP%3E%3CHR%3E%3CP%3E%3CIMG+STYLE%3D%22WIDTH%3A+593PX%3B%
 22+SRC%3D%22HTTPS%3A%2F%2FWWW.ALUMNI.GRENOBLE-INP.FR%2FMEDIAS%2FEDITOR%2FO
 NESHOT-IMAGES%2F99072918960095928278A9.JPG%22%3E%3CBR%3E%3C%2FP%3E%3CP%3EG
 RENOBLE+INP+ALUMNI+LANCE+AU+PREMIER+TRIMESTRE+DE+CETTE+ANN%C3%A9E+UNE+S%C3
 %A9RIE+DE+CONF%C3%A9RENCES+APPEL%C3%A9E%3CSTRONG%3E%26NBSP%3BGRENOBLE+TALK
 %E2%80%99INP%3C%2FSTRONG%3E.%0D%0A+CES+CONF%C3%A9RENCES+ONT+POUR+OBJECTIF+
 DE+PARTAGER+AVEC+LES+DIPL%C3%B4M%C3%A9S+ET+LES+%0D%0A%C3%A9TUDIANTS+DE+GRE
 NOBLE+INP+DES+INFORMATIONS+SCIENTIFIQUES%2C+%C3%A9CONOMIQUES+ET%0D%0A+INDU
 STRIELLES%2C+QUI+AIDENT+%C3%A0+COMPRENDRE+NOTRE+MONDE+%C3%A9CONOMIQUE+ET+%
 0D%0AL%E2%80%99%C3%A9VOLUTION+DU+MONDE+DU+TRAVAIL+DANS+LES+ANN%C3%A9ES+%C3
 %A0+VENIR.%3CBR%3E%3C%2FP%3E%3CP%3ECHAQUE%0D%0A+CONF%C3%A9RENCE+S%E2%80%99
 ARTICULERA+AUTOUR+D%E2%80%99UN+TH%C3%A8ME+ET+D%E2%80%99UN%28E%29+INVIT%C3%
 A9%28E%29+%0D%0ADIPL%C3%B4M%C3%A9%28E%29+DE+GRENOBLE+INP+ET+CONNU%28E%29+D
 ANS+LA+SPH%C3%A8RE+PUBLIQUE+ET+LE+%0D%0AMONDE+DES+M%C3%A9DIAS+POUR+SES+R%C
 3%A9ALISATIONS+PROFESSIONNELLES+EN+TANT+QUE+%0D%0ACHERCHEUR%28E%29%2C+ENSE
 IGNANT%28E%29%2C+OU+ENTREPRENEUR%28E%29.%3C%2FP%3E%3CP%3E%3CBR%3E%3C%2FP%3
 E%3CP+ALIGN%3D%22LEFT%22%3ETH%C3%A8ME+%3A+LES+CHEMINS+FRAN%C3%A7AIS+DE+LA+
 R%C3%A9INDUSTRIALISATION%3CBR%3EINTERVENANTS+%3A%3C%2FP%3E%3CUL%3E%3CLI+ST
 YLE%3D%22MARGIN%3A+0CM+0CM+0.0001PT%3B+COLOR%3A+RGB%2834%2C+34%2C+34%29%3B
 +FONT-STYLE%3A+NORMAL%3B+FONT-WEIGHT%3A+400%3B+TEXT-INDENT%3A+0PX%3B+BACKG
 ROUND-COLOR%3A+RGB%28255%2C+255%2C+255%29%3B+FONT-SIZE%3A+15PX%3B+FONT-FAM
 ILY%3A+CALIBRI%2C+SANS-SERIF%3B%22%3ELO%C3%AFK+LE+FLOCH-PRIGENT%2C+CONSULT
 ANT+DANS+LE+DOMAINE+DE+L%27%C3%A9NERGIE%2C+ESSAYISTE+%28EX+RH%C3%B4NE-POUL
 ENC%2C+ELF+AQUITAINE%2C+GDF%2C+SNCF%29%3CBR%3E%3C%2FLI%3E%3CLI%3EJEAN-HERV
 %C3%A9+LORENZI%2C+PR%C3%A9SIDENT+DU+CERCLE+DES+ECONOMISTES+ET+PROFESSEUR+A
 GR%C3%A9G%C3%A9+DE+DROIT+ET+SCIENCES+ECONOMIQUES+%28EX+CONSEILLER+%C3%A9CO
 NOMIQUE+DU+PREMIER+MINISTRE+EDITH+CRESSON%2C+CEA+INDUSTRIE%29%3CBR%3E%3C%2
 FLI%3E%3C%2FUL%3E%3CP%3E%3CBR%3E%3C%2FP%3E%3CP%3EINSCRIPTION+%3CA+HREF%3D%
 22HTTPS%3A%2F%2FWWW.ALUMNI.GRENOBLE-INP.FR%2FEVENT%2FCONFERENCE-TALK-INP-D
 U-13-FEVRIER-2021-LES-CHEMINS-FRANCAIS-DE-LA-REINDUSTRIALISATION%2F2021%2F
 02%2F13%2F160%22+TARGET%3D%22-BLANK%22%3EEN+BAS+DE+CE+LIEN%3C%2FA%3E.%3CBR
 %3E%3C%2FP%3E":Détails participants: https://www.ensimag-alumni.com/event
 s/conference-talk-inp-les-chemins-francais-de-la-reindustrialisation\n\n\n
 *Evénement proposé par Grenoble INP Alumni*\n\nImage (extirpée): Image\
 n\nGrenoble INP Alumni lance au premier trimestre de cette année une sér
 ie de conférences appelée*Grenoble Talk’INP*.\n Ces conférences ont p
 our objectif de partager avec les diplômés et les \nétudiants de Grenob
 le INP des informations scientifiques\, économiques et\n industrielles\, 
 qui aident à comprendre notre monde économique et \nl’évolution du mo
 nde du travail dans les années à venir.\n\nChaque\n conférence s’arti
 culera autour d’un thème et d’un(e) invité(e) \ndiplômé(e) de Gren
 oble INP et connu(e) dans la sphère publique et le \nmonde des médias po
 ur ses réalisations professionnelles en tant que \nchercheur(e)\, enseign
 ant(e)\, ou entrepreneur(e).\n\n\n\nThème : les Chemins Français de la r
 éindustrialisation\nIntervenants :\nLoïk Le Floch-Prigent\, Consultant d
 ans le domaine de l'énergie\, essayiste (ex Rhône-Poulenc\, Elf Aquitain
 e\, GDF\, SNCF)\nJean-Hervé Lorenzi\, Président du Cercle des Economiste
 s et Professeur Agrégé de Droit et Sciences Economiques (ex Conseiller 
 économique du Premier Ministre Edith Cresson\, CEA Industrie)\n\n\n\nInsc
 ription en bas de ce lien ( https://www.alumni.grenoble-inp.fr/event/confe
 rence-talk-inp-du-13-fevrier-2021-les-chemins-francais-de-la-reindustriali
 sation/2021/02/13/160 ).\n
END:VEVENT
END:VCALENDAR
