BEGIN:VCALENDAR
VERSION:2.0
PRODID:icalendar-ruby
CALSCALE:GREGORIAN
METHOD:PUBLISH
BEGIN:VEVENT
DTSTAMP:20260424T062126Z
UID:bc64226b-2cc3-4649-b4c0-f9dc61bb2402
DTSTART:20260319T153000
DTEND:20260319T200000
CLASS:PUBLIC
DESCRIPTION:Détails participants: https://www.ensimag-alumni.com/events/ga
 la-2026-des-partenaires-tapis-vert-ensimag\n\n\n_Evènement organisé par 
 Grenoble INP - Ensimag \, Relations entreprises ( https://ensimag.grenoble
 -inp.fr/fr/entreprises/devenir-partenaire-densimag )._\n\n__\n\nJe serai h
 eureux de représenter Ensimag Alumni à cet évènement\, et d'y rencontr
 er les partenaires de l'école.\n\n\n\nImage (extirpée): Image\n\nL'agend
 a  cette année est particulièrement riche avec notamment la présentatio
 n des toutes dernières avancées sur\n l'entreprenariat étudiant avec le
 s pitchs élèves et alumni\, d'associations étudiantes\, des conférence
 s métiers\, des ambassadeurs alumni d'entreprise\, de la nouvelle maquett
 e des enseignements\,de la RSE\, \net culminera avec la remise du prix PFE
  avant le cocktail dînatoire.\n\nPlus de détails sur le site de l'école
  ( https://ensimag.grenoble-inp.fr/fr/entreprises/devenir-partenaire-densi
 mag ).\nImage (extirpée): ImageLuc Valette ( https://ensimag-alumni.com/m
 ember/profiles/2787 ) E'1992\, Président d'Ensimag Alumni 
LOCATION:Ensimag\, Campus de Grenoble
SUMMARY:🟩 🤝 🥂 Gala 2026 des partenaires « Tapis vert »  Ensimag
ATTACH;FMTTYPE=text/html:https://www.ensimag-alumni.com/events/gala-2026-de
 s-partenaires-tapis-vert-ensimag
DESCRIPTION;ALTREP="DATA:TEXT/HTML;CHARSET=UTF-8;CLIQUER+POUR+LES%3CA+HREF%
 3D%22HTTPS%3A%2F%2FWWW.ENSIMAG-ALUMNI.COM%2FEVENTS%2FGALA-2026-DES-PARTENA
 IRES-TAPIS-VERT-ENSIMAG%22%3ED%C3%A9TAILS+PARTICIPANTS%3C%2FA%3E%3CP%3E%3C
 I%3EEV%C3%A8NEMENT+ORGANIS%C3%A9+PAR+%3CA+HREF%3D%22HTTPS%3A%2F%2FENSIMAG.
 GRENOBLE-INP.FR%2FFR%2FENTREPRISES%2FDEVENIR-PARTENAIRE-DENSIMAG%22+TARGET
 %3D%22-BLANK%22%3EGRENOBLE+INP+-+ENSIMAG+%2C+RELATIONS+ENTREPRISES%3C%2FA%
 3E.%3C%2FI%3E%3C%2FP%3E%3CP%3E%3CI%3E%3CBR%3E%3CBR%3E%3C%2FI%3E%3C%2FP%3E%
 3CP%3EJE+SERAI+HEUREUX+DE+REPR%C3%A9SENTER+ENSIMAG+ALUMNI+%C3%A0+CET+%C3%A
 9V%C3%A8NEMENT%2C+ET+D%27Y+RENCONTRER+LES+PARTENAIRES+DE+L%27%C3%A9COLE.%3
 C%2FP%3E%3CP%3E%3CBR%3E%3C%2FP%3E%3CP%3E%3CIMG+SRC%3D%22HTTPS%3A%2F%2FRES.
 CLOUDINARY.COM%2FENSIMAG-ALUMNI%2FIMAGE%2FUPLOAD%2FV1773099301%2FGCPKAJWTY
 1V7JOPYF011.PNG%22+STYLE%3D%22WIDTH%3A+100%25%3B%22%3E%3CBR%3E%3C%2FP%3E%3
 CP%3EL%27AGENDA%26NBSP%3B+CETTE+ANN%C3%A9E+EST+PARTICULI%C3%A8REMENT+RICHE
 +AVEC+NOTAMMENT+LA+PR%C3%A9SENTATION+DES+TOUTES+DERNI%C3%A8RES+AVANC%C3%A9
 ES+SUR%26NBSP%3B%3CBR%3E%3C%2FP%3E%3CUL%3E%3CLI%3E%26NBSP%3BL%27ENTREPRENA
 RIAT+%C3%A9TUDIANT+AVEC+LES+PITCHS+%C3%A9L%C3%A8VES+ET+ALUMNI%2C%3C%2FLI%3
 E%3CLI%3E+D%27ASSOCIATIONS+%C3%A9TUDIANTES%2C%3C%2FLI%3E%3CLI%3E+DES+CONF%
 C3%A9RENCES+M%C3%A9TIERS%2C%3C%2FLI%3E%3CLI%3E+DES+AMBASSADEURS+ALUMNI+D%2
 7ENTREPRISE%2C%3C%2FLI%3E%3CLI%3E+DE+LA+NOUVELLE+MAQUETTE+DES+ENSEIGNEMENT
 S%2C%3C%2FLI%3E%3CLI%3EDE+LA+RSE%2C%26NBSP%3B%3C%2FLI%3E%3C%2FUL%3E%3CP%3E
 ET+CULMINERA+AVEC+LA+REMISE+DU+PRIX+PFE%26NBSP%3BAVANT+LE+COCKTAIL+D%C3%AE
 NATOIRE.%3C%2FP%3E%3CP%3E%3CBR%3EPLUS+DE+D%C3%A9TAILS+SUR%26NBSP%3B%3CA+HR
 EF%3D%22HTTPS%3A%2F%2FENSIMAG.GRENOBLE-INP.FR%2FFR%2FENTREPRISES%2FDEVENIR
 -PARTENAIRE-DENSIMAG%22+TARGET%3D%22-BLANK%22%3ELE+SITE+DE+L%27%C3%A9COLE%
 3C%2FA%3E.%3C%2FP%3E%3CH5+STYLE%3D%22FONT-FAMILY%3A+%26QUOT%3BHELVETICA+NE
 UE%26QUOT%3B%2C+HELVETICA%2C+ARIAL%2C+SANS-SERIF%3B+COLOR%3A+RGB%2834%2C+3
 4%2C+34%29%3B%22%3E%3CIMG+SRC%3D%22DATA%3AIMAGE%2FJPEG%3BBASE64%2C%2F9J%2F
 4AAQSKZJRGABAQAAAQABAAD%2F2WBDAAGGBGCGBQGHBWCJCQGKDBQNDASLDBKSEW8UHROFHH0A
 HBWGJC4NICISIXWCKDCPLDAXNDQ0HYC5PTGYPC4ZNDL%2F2WBDAQKJCQWLDBGNDRGYIRWHMJIY
 MJIYMJIYMJIYMJIYMJIYMJIYMJIYMJIYMJIYMJIYMJIYMJIYMJIYMJIYMJIYMJL%2FWAARCABA
 AEADASIAAHEBAXEB%2F8QAHWAAAQUBAQEBAQEAAAAAAAAAAAECAWQFBGCICQOL%2F8QATRAAAG
 EDAWIEAWUFBAQAAAF9AQIDAAQRBRIHMUEGE1FHBYJXFDKBKAEII0KXWRVS0FAKM2JYGGKKFHCY
 GROLJICOKSO0NTY3ODK6Q0RFRKDISUPTVFVWV1HZWMNKZWZNAGLQC3R1DND4EXQDHIWGH4IJIP
 KTLJWWL5IZMQKJPKWMP6IPQRKZTLW2T7I5USLDXMXGX8JJYTLT1NXW19JZ2UHI4%2BTL5UFO6E
 RX8VP09FB3%2BPN6%2F8QAHWEAAWEBAQEBAQEBAQAAAAAAAAECAWQFBGCICQOL%2F8QATREAAG
 ECBAQDBACFBAQAAQJ3AAECAXEEBSEXBHJBUQDHCRMIMOEIFEKROBHBCSMZUVAVYNLRCHYKNOEL
 8RCYGROMJYGPKJU2NZG5OKNERUZHSELKU1RVVLDYWVPJZGVMZ2HPANN0DXZ3EHL6GOOEHYAHII
 MKKPOULZAXMJMAOQOKPAANQKMQSRO0TBA3ULM6WSPEXCBHYMNK0TPU1DBX2NNA4UPK5EBN6ONQ
 8VP09FB3%2BPN6%2F9OADAMBAAIRAXEAPWD3%2BO55O7ACSEARY4O1LU7HAVQMKK%2BLSVWFXH
 1L%2BZVHTQKK5SS9AO0RH%2FTSN2F%2BAHQTGLD2OV8T%2FGLMYW%2BG4VJGB5V7QPDVH%2BXH
 KCHRLV8AVMUCT4GEOUT%2FTZ6PDC1Z%2FLLMSYXGEW5EFTVWFXRLFCNVHQPI3TIPQGJFWRMD0O
 OCY%2FCVPXZKNH8G7WIK4ZGGQR6YRMNOSDJVJTIO3SPFBP4XEKLKVPBI6SL6DK5SADYCZ5AKYX
 XNQDZIVBFC%2FIJTPFUKPQOLZBKZTKJBH4M%2FUSP85RM5FBHHKS8LMK0KYZ5RHSQDV4DOB%2B
 FY%2FWANPDN%2FAAINJ3XFP0FNNZS2SE9O5YKEXVCYB1YHIZ6D3Q6DS7SZVQA5BPHQ9FFFBNIF
 CP8AFRRJDC8AXCNVG0LZBLFPCI%2FXMHAI%2FWC%2BWAU4QPQVOT9P1XASMISMRJ%2BVJ7FQTZ
 K58UEBOIBHXJGUQ3EVMLCPUE8YX4CDISCDT%2BNE0XPIAZ02Y%2B0I0DYHGDYXMAJGDFNY4ZVE
 AVZXTTC3VJAVLO7RZYHXAUPYJHUEYOE9WXPEH2VJKBZWSUK7MKCMYY3XA7E%2B1CTNZTPBJS5Y
 8Q1RPZ%2BJ4B%2BXA7GSJFLUTSLXSW%2BHDYP1ZX3QHW14TA71KE6K012JAW2B7IWMMR3MR5JY
 C9DW%2BXPPZMQNVQMM2C5%2B12T%2FADRTBQSNUXVYYC4DDG5IB%2BORD8K3SF5QULO8TCSMBY
 HJ27XWVYJ156EOQO3UK7GVEMVZY8JUAKKK7DXWOPSJNZD%2F4K0XTL2CYVTVS7E7NZUIGKMUOX
 Y4HY9ET3OA5XXRATYXX2%2BLPLYP80YJWGB%2BY46CGR%2BVCJBQYUX5CI5HJ%2BCKDPXNRMVR
 %2FEGY9KRLTSUMPBGM5X%2FHXLGTALE2NY7W7QEOSD0DCUHR1G0E1QLL2MUZPVS5OUUWKNZDXV
 WGE6X5PFLD%2BVDJ4L0TLA8UPOU2W8K%2FZ0%2BYSWBGSSSCNHA%2FE15TOTV4KMUETFVGT7DI
 NXGGIB44%2FOVDRW2HS7EO3T4XHFGMKOREEBY9DDF1NYCTTYAIIITZZCHRWMTQ%2BJXWNREXNM
 08ZVBI2CPJGEXBH%2BT0R5N8UEH9T8N63NP%2BSRNZ2JZZUSTYV99WPJ988G9A%2BWAYTF8ADM
 LEJ9NAW1EZJUYDYUEGJB%2B8RDLT7ILYQMRHZ34X%2BKEOAVBFYA0SL%2FZJHUUACZWR%2BP8A
 RAPQ8%2B56V6XFFABR2LG%2BSLUO8HVUXI5K57MP5U%2BXXXG%2BIVGNQ1PI83HZUIB2DQLE7P
 LYJ2DGBW%2FELXHQ%2BDVHUHXWUBBQTYTBLP8ALRALV%2FDKEHH7HIQHSI9UDDLEUONQ9IWDTD
 K0E4U9RLEFGELTSWKKLJAAPXCTJAHOELCD4Z%2BNGS6DBW8OTQLQCQYPMGI7GLXGN%2BFU%2FY
 E461ZWOAF8SFFC8R1DSDYUSHZGS0SWRQFXADQG%2B%2BM11FH%2F4G6RDRA%2FIC%2FJSILGGG
 TG8YVLZKAURTU8NOG7VMKBI2XVQ0AJ1PVPDHJZQFFKJW6ZPL9PJTFJBLCYUI5XKN7V5GUMRL0H
 W7PFHNTLSDJTET4BY2OWDV7ZMEWPUA1K2OR2VOF%2F2Q%3D%3D%22+DATA-FILENAME%3D%22P
 HOTO+LUC+VALETTE+VIGNETTE+RONDE+SMALL.JPEG%22+STYLE%3D%22MAX-WIDTH%3A+100%
 25%3B+HEIGHT%3A+AUTO%3B+WIDTH%3A+64PX%3B%22%3E%3CA+HREF%3D%22HTTPS%3A%2F%2
 FENSIMAG-ALUMNI.COM%2FMEMBER%2FPROFILES%2F2787%22+TARGET%3D%22-BLANK%22%3E
 LUC+VALETTE%3C%2FA%3E%26NBSP%3BE%271992%2C+PR%C3%A9SIDENT+D%27ENSIMAG+ALUM
 NI%26NBSP%3B%3C%2FH5%3E":Détails participants: https://www.ensimag-alumni
 .com/events/gala-2026-des-partenaires-tapis-vert-ensimag\n\n\n_Evènement 
 organisé par Grenoble INP - Ensimag \, Relations entreprises ( https://en
 simag.grenoble-inp.fr/fr/entreprises/devenir-partenaire-densimag )._\n\n__
 \n\nJe serai heureux de représenter Ensimag Alumni à cet évènement\, e
 t d'y rencontrer les partenaires de l'école.\n\n\n\nImage (extirpée): Im
 age\n\nL'agenda  cette année est particulièrement riche avec notamment l
 a présentation des toutes dernières avancées sur\n l'entreprenariat ét
 udiant avec les pitchs élèves et alumni\, d'associations étudiantes\, d
 es conférences métiers\, des ambassadeurs alumni d'entreprise\, de la no
 uvelle maquette des enseignements\,de la RSE\, \net culminera avec la remi
 se du prix PFE avant le cocktail dînatoire.\n\nPlus de détails sur le si
 te de l'école ( https://ensimag.grenoble-inp.fr/fr/entreprises/devenir-pa
 rtenaire-densimag ).\nImage (extirpée): ImageLuc Valette ( https://ensima
 g-alumni.com/member/profiles/2787 ) E'1992\, Président d'Ensimag Alumni 
END:VEVENT
END:VCALENDAR
