BEGIN:VCALENDAR
VERSION:2.0
PRODID:icalendar-ruby
CALSCALE:GREGORIAN
METHOD:PUBLISH
BEGIN:VEVENT
DTSTAMP:20260422T210958Z
UID:ad17dc54-5a8c-4646-8077-d01daff083b4
DTSTART:20240220T180000
DTEND:20240220T210000
CLASS:PUBLIC
DESCRIPTION:Détails participants: https://www.ensimag-alumni.com/events/ga
 la-des-partenaires-tapis-vert\n\n\nRencontre entre l'école et les entrepr
 ises partenaires\, avec le corps professoral et de recherche\, les associa
 tions de l'école\, et la représentation d'Ensimag Alumni.\n\nPrésentati
 on de l'offre partenaires\, des associations\, et cocktail dînatoire.\n\n
 Riches échanges assurés !\n
LOCATION:World Trade Center
SUMMARY:🟩 Gala des partenaires « Tapis vert » 
ATTACH;FMTTYPE=text/html:https://www.ensimag-alumni.com/events/gala-des-par
 tenaires-tapis-vert
DESCRIPTION;ALTREP="DATA:TEXT/HTML;CHARSET=UTF-8;CLIQUER+POUR+LES%3CA+HREF%
 3D%22HTTPS%3A%2F%2FWWW.ENSIMAG-ALUMNI.COM%2FEVENTS%2FGALA-DES-PARTENAIRES-
 TAPIS-VERT%22%3ED%C3%A9TAILS+PARTICIPANTS%3C%2FA%3E%3CP%3ERENCONTRE+ENTRE+
 L%27%C3%A9COLE+ET+LES+ENTREPRISES+PARTENAIRES%2C+AVEC+LE+CORPS+PROFESSORAL
 +ET+DE+RECHERCHE%2C+LES+ASSOCIATIONS+DE+L%27%C3%A9COLE%2C+ET+LA+REPR%C3%A9
 SENTATION+D%27ENSIMAG+ALUMNI.%3C%2FP%3E%3CP%3EPR%C3%A9SENTATION+DE+L%27OFF
 RE+PARTENAIRES%2C+DES+ASSOCIATIONS%2C+ET+COCKTAIL+D%C3%AENATOIRE.%3C%2FP%3
 E%3CP%3ERICHES+%C3%A9CHANGES+ASSUR%C3%A9S+%21%3CBR%3E%3C%2FP%3E":Détails 
 participants: https://www.ensimag-alumni.com/events/gala-des-partenaires-t
 apis-vert\n\n\nRencontre entre l'école et les entreprises partenaires\, a
 vec le corps professoral et de recherche\, les associations de l'école\, 
 et la représentation d'Ensimag Alumni.\n\nPrésentation de l'offre parten
 aires\, des associations\, et cocktail dînatoire.\n\nRiches échanges ass
 urés !\n
END:VEVENT
END:VCALENDAR
