BEGIN:VCALENDAR
VERSION:2.0
PRODID:icalendar-ruby
CALSCALE:GREGORIAN
METHOD:PUBLISH
BEGIN:VEVENT
DTSTAMP:20260422T193209Z
UID:2b2582b8-edef-4ce5-bb87-b63a4ed5cd35
DTSTART:20230906T110000
DTEND:20230906T120000
CLASS:PUBLIC
DESCRIPTION:Détails participants: https://www.ensimag-alumni.com/events/re
 ncontre-presentation-des-alumni-aux-2e-annee\n\n\nElèves de 2ème année\
 , venez rencontrer le président de l'association des alumni Ensimag pour 
 une présentation:\ndu réseau mondial des alumni Ensimagdes services de l
 'associationdes modalités d'inscription à l'annuaire et à l'application
  web des bonnes pratiques de prise de contact avec les membres\nLa présen
 tation aura lieu dans le cadre de la journée de rentrée des 2ème année
 .\n
LOCATION:Ensimag
SUMMARY:🎓👥 Rencontre présentation des Alumni aux 2è année
ATTACH;FMTTYPE=text/html:https://www.ensimag-alumni.com/events/rencontre-pr
 esentation-des-alumni-aux-2e-annee
DESCRIPTION;ALTREP="DATA:TEXT/HTML;CHARSET=UTF-8;CLIQUER+POUR+LES%3CA+HREF%
 3D%22HTTPS%3A%2F%2FWWW.ENSIMAG-ALUMNI.COM%2FEVENTS%2FRENCONTRE-PRESENTATIO
 N-DES-ALUMNI-AUX-2E-ANNEE%22%3ED%C3%A9TAILS+PARTICIPANTS%3C%2FA%3E%3CP%3EE
 L%C3%A8VES+DE+2%C3%A8ME+ANN%C3%A9E%2C+VENEZ+RENCONTRER+LE+PR%C3%A9SIDENT+D
 E+L%27ASSOCIATION+DES+ALUMNI+ENSIMAG+POUR+UNE+PR%C3%A9SENTATION%3A%3C%2FP%
 3E%3CUL%3E%3CLI%3EDU+R%C3%A9SEAU+MONDIAL+DES+ALUMNI+ENSIMAG%3C%2FLI%3E%3CL
 I%3EDES+SERVICES+DE+L%27ASSOCIATION%3C%2FLI%3E%3CLI%3EDES+MODALIT%C3%A9S+D
 %27INSCRIPTION+%C3%A0+L%27ANNUAIRE+ET+%C3%A0+L%27APPLICATION+WEB+%3C%2FLI%
 3E%3CLI%3EDES+BONNES+PRATIQUES+DE+PRISE+DE+CONTACT+AVEC+LES+MEMBRES%3C%2FL
 I%3E%3C%2FUL%3E%3CP%3ELA+PR%C3%A9SENTATION+AURA+LIEU+DANS+LE+CADRE+DE+LA+J
 OURN%C3%A9E+DE+RENTR%C3%A9E+DES+2%C3%A8ME+ANN%C3%A9E.%3CBR%3E%3C%2FP%3E":D
 étails participants: https://www.ensimag-alumni.com/events/rencontre-pres
 entation-des-alumni-aux-2e-annee\n\n\nElèves de 2ème année\, venez renc
 ontrer le président de l'association des alumni Ensimag pour une présent
 ation:\ndu réseau mondial des alumni Ensimagdes services de l'association
 des modalités d'inscription à l'annuaire et à l'application web des bon
 nes pratiques de prise de contact avec les membres\nLa présentation aura 
 lieu dans le cadre de la journée de rentrée des 2ème année.\n
END:VEVENT
END:VCALENDAR
