BEGIN:VCALENDAR
VERSION:2.0
PRODID:icalendar-ruby
CALSCALE:GREGORIAN
METHOD:PUBLISH
BEGIN:VEVENT
DTSTAMP:20260422T193024Z
UID:6feb72ed-3cee-4490-a55f-5dfd4d35e888
DTSTART:20230918T100000
DTEND:20230918T110000
CLASS:PUBLIC
DESCRIPTION:Détails participants: https://www.ensimag-alumni.com/events/re
 ncontre-presentation-des-alumni-aux-3e-annee\n\n\nElèves de 3ème année\
 , venez rencontrer le président de l'association des alumni Ensimag pour 
 une présentation:\ndu réseau mondial des alumni Ensimagdes services de l
 'associationdes modalités d'inscription à l'annuaire et à l'application
  web des bonnes pratiques de prise de contact avec les membresLa présenta
 tion aura lieu dans le cadre de la journée de rentrée des 3ème année.
LOCATION:Ensimag
SUMMARY:🎓👥 Rencontre présentation des Alumni aux 3è année
ATTACH;FMTTYPE=text/html:https://www.ensimag-alumni.com/events/rencontre-pr
 esentation-des-alumni-aux-3e-annee
DESCRIPTION;ALTREP="DATA:TEXT/HTML;CHARSET=UTF-8;CLIQUER+POUR+LES%3CA+HREF%
 3D%22HTTPS%3A%2F%2FWWW.ENSIMAG-ALUMNI.COM%2FEVENTS%2FRENCONTRE-PRESENTATIO
 N-DES-ALUMNI-AUX-3E-ANNEE%22%3ED%C3%A9TAILS+PARTICIPANTS%3C%2FA%3E%3CP%3EE
 L%C3%A8VES+DE+3%C3%A8ME+ANN%C3%A9E%2C+VENEZ+RENCONTRER+LE+PR%C3%A9SIDENT+D
 E+L%27ASSOCIATION+DES+ALUMNI+ENSIMAG+POUR+UNE+PR%C3%A9SENTATION%3A%3C%2FP%
 3E%3CUL%3E%3CLI%3EDU+R%C3%A9SEAU+MONDIAL+DES+ALUMNI+ENSIMAG%3C%2FLI%3E%3CL
 I%3EDES+SERVICES+DE+L%27ASSOCIATION%3C%2FLI%3E%3CLI%3EDES+MODALIT%C3%A9S+D
 %27INSCRIPTION+%C3%A0+L%27ANNUAIRE+ET+%C3%A0+L%27APPLICATION+WEB+%3C%2FLI%
 3E%3CLI%3EDES+BONNES+PRATIQUES+DE+PRISE+DE+CONTACT+AVEC+LES+MEMBRES%3C%2FL
 I%3E%3C%2FUL%3ELA+PR%C3%A9SENTATION+AURA+LIEU+DANS+LE+CADRE+DE+LA+JOURN%C3
 %A9E+DE+RENTR%C3%A9E+DES+3%C3%A8ME+ANN%C3%A9E.":Détails participants: htt
 ps://www.ensimag-alumni.com/events/rencontre-presentation-des-alumni-aux-3
 e-annee\n\n\nElèves de 3ème année\, venez rencontrer le président de l
 'association des alumni Ensimag pour une présentation:\ndu réseau mondia
 l des alumni Ensimagdes services de l'associationdes modalités d'inscript
 ion à l'annuaire et à l'application web des bonnes pratiques de prise de
  contact avec les membresLa présentation aura lieu dans le cadre de la jo
 urnée de rentrée des 3ème année.
END:VEVENT
END:VCALENDAR
